BEGIN:VCALENDAR
VERSION:2.0
PRODID:-//FNOMCeO - ECPv5.16.4//NONSGML v1.0//EN
CALSCALE:GREGORIAN
METHOD:PUBLISH
X-WR-CALNAME:FNOMCeO
X-ORIGINAL-URL:https://portale.fnomceo.it
X-WR-CALDESC:Eventi per FNOMCeO
BEGIN:VTIMEZONE
TZID:Europe/Rome
BEGIN:DAYLIGHT
TZOFFSETFROM:+0100
TZOFFSETTO:+0200
TZNAME:CEST
DTSTART:20200329T010000
END:DAYLIGHT
BEGIN:STANDARD
TZOFFSETFROM:+0200
TZOFFSETTO:+0100
TZNAME:CET
DTSTART:20201025T010000
END:STANDARD
END:VTIMEZONE
BEGIN:VEVENT
DTSTART;TZID=Europe/Rome:20200130T100000
DTEND;TZID=Europe/Rome:20200130T130000
DTSTAMP:20260423T075408
CREATED:20200128T111706Z
LAST-MODIFIED:20200128T111706Z
UID:48121-1580378400-1580389200@portale.fnomceo.it
SUMMARY:Roma\, “Medicina e sanità ai confini della vita: il ruolo del medico”
DESCRIPTION:
URL:https://portale.fnomceo.it/eventi-fnomceo/roma-medicina-e-sanita-ai-confini-della-vita-il-ruolo-del-medico/
LOCATION:Roma\, Palazzo Maffei Marescotti\, Via della Pigna\, 13\, Roma\, 00186\, Italia
GEO:41.8967032;12.4775154
X-APPLE-STRUCTURED-LOCATION;VALUE=URI;X-ADDRESS=Roma Palazzo Maffei Marescotti Via della Pigna 13 Roma 00186 Italia;X-APPLE-RADIUS=500;X-TITLE=Via della Pigna\, 13:geo:12.4775154,41.8967032
END:VEVENT
END:VCALENDAR