BEGIN:VCALENDAR
VERSION:2.0
PRODID:-//FNOMCeO - ECPv5.16.4//NONSGML v1.0//EN
CALSCALE:GREGORIAN
METHOD:PUBLISH
X-WR-CALNAME:FNOMCeO
X-ORIGINAL-URL:https://portale.fnomceo.it
X-WR-CALDESC:Eventi per FNOMCeO
BEGIN:VTIMEZONE
TZID:Europe/Rome
BEGIN:DAYLIGHT
TZOFFSETFROM:+0100
TZOFFSETTO:+0200
TZNAME:CEST
DTSTART:20250330T010000
END:DAYLIGHT
BEGIN:STANDARD
TZOFFSETFROM:+0200
TZOFFSETTO:+0100
TZNAME:CET
DTSTART:20251026T010000
END:STANDARD
END:VTIMEZONE
BEGIN:VEVENT
DTSTART;TZID=Europe/Rome:20250520T080000
DTEND;TZID=Europe/Rome:20250520T170000
DTSTAMP:20260424T081010
CREATED:20250220T125932Z
LAST-MODIFIED:20250220T125932Z
UID:82966-1747728000-1747760400@portale.fnomceo.it
SUMMARY:Roma\, Mostra fotografica "World Medical View 3rd Edition"
DESCRIPTION:Apertura mostra fotografica\n“World Medical View 3rd Edition”\nRoma\, sede ENPAM\n20 maggio 2025 \nL’evento World Medical View 3rd Edition\, programmato a Roma dal 20/05/2025 al 14/06/2025 presso la sede ENPAM di Piazza Vittorio Emanuele II\, segue agli analoghi eventi svoltisi nel 2023 e 2024\, e\, come allora\, nasce dalla collaborazione tra l’Associazione Medici Fotografi Italiani – APS\, iscritta nel RUNTS\, che conta Soci in tutta Italia\, e PhotoArtMedica. \n\nEvento patrocinato FNOMCeO
URL:https://portale.fnomceo.it/eventi-fnomceo/roma-mostra-fotografica-world-medical-view-3rd-edition/
LOCATION:Roma\, sede ENPAM\, Piazza Vittorio Emanuele II n. 78\,\, Roma
CATEGORIES:Eventi patrocinati
GEO:41.8933999;12.505626
X-APPLE-STRUCTURED-LOCATION;VALUE=URI;X-ADDRESS=Roma sede ENPAM Piazza Vittorio Emanuele II n. 78 Roma;X-APPLE-RADIUS=500;X-TITLE=Piazza Vittorio Emanuele II n. 78\,:geo:12.505626,41.8933999
END:VEVENT
END:VCALENDAR