BEGIN:VCALENDAR
VERSION:2.0
PRODID:-//FNOMCeO - ECPv5.16.4//NONSGML v1.0//EN
CALSCALE:GREGORIAN
METHOD:PUBLISH
X-WR-CALNAME:FNOMCeO
X-ORIGINAL-URL:https://portale.fnomceo.it
X-WR-CALDESC:Eventi per FNOMCeO
BEGIN:VTIMEZONE
TZID:Europe/Rome
BEGIN:DAYLIGHT
TZOFFSETFROM:+0100
TZOFFSETTO:+0200
TZNAME:CEST
DTSTART:20180325T010000
END:DAYLIGHT
BEGIN:STANDARD
TZOFFSETFROM:+0200
TZOFFSETTO:+0100
TZNAME:CET
DTSTART:20181028T010000
END:STANDARD
END:VTIMEZONE
BEGIN:VEVENT
DTSTART;VALUE=DATE:20180921
DTEND;VALUE=DATE:20180923
DTSTAMP:20260426T004652
CREATED:20180715T072837Z
LAST-MODIFIED:20180919T155135Z
UID:34885-1537488000-1537660799@portale.fnomceo.it
SUMMARY:Pisa\, "Salute e ambiente - Il dialogo e la condivisione per la tutela della salute e dell'ambiente"
DESCRIPTION:La complessità dei fattori che legano l’ambiente alla salute umana e la molteplicità degli attori coinvolti rendono molto difficile un’azione unitaria\, coordinata e sinergica. Le maggiori criticità riguardano proprio le carenze nella condivisione di dati e informazioni\, nello scambio di idee sugli obiettivi prioritari\, nella partecipazione sociale alle scelte politi- che. La parola chiave per una migliore gestione dei rischi ambientali è quindi il dialogo\, inteso nella sua accezione più vasta che indica la capacità di comunicazione e compren- sione reciproca. \nLa nuova ed imprescindibile visione della tutela di ambiente e salute implica quindi il dialogo non solo fra istituzioni e fra esperti di varie discipline\, ma anche con i cittadini\, con i mass media e con i decisori.\nQuesti temi verranno dibattuti nel convegno dal titolo “Il dialogo e la condivisione per la tutela della salute e dell’ambiente” promosso da Società Italiana di Igiene e dalla Associa- zione Italiana di Epidemiologia\, che si terrà a Pisa il 21-22 settembre 2018 e che prosegue un percorso che vede da tempo impegnati diversi soggetti nella costruzione dei “ponti” necessari al dialogo.
URL:https://portale.fnomceo.it/eventi-fnomceo/salute-e-ambiente-il-dialogo-a-e-la-condivisione-per-la-tutela-della-salute-e-dellambiente/
LOCATION:Polo didattico Piagge\, via Giacomo Matteotti 11\, Pisa\, Italia
CATEGORIES:Formazione e aggiornamento
ATTACH;FMTTYPE=image/png:https://portale.fnomceo.it/wp-content/uploads/2018/07/pisa.png
GEO:43.710548;10.4121776
X-APPLE-STRUCTURED-LOCATION;VALUE=URI;X-ADDRESS=Polo didattico Piagge via Giacomo Matteotti 11 Pisa Italia;X-APPLE-RADIUS=500;X-TITLE=via Giacomo Matteotti 11:geo:10.4121776,43.710548
END:VEVENT
END:VCALENDAR