BEGIN:VCALENDAR
VERSION:2.0
PRODID:-//FNOMCeO - ECPv5.16.4//NONSGML v1.0//EN
CALSCALE:GREGORIAN
METHOD:PUBLISH
X-WR-CALNAME:FNOMCeO
X-ORIGINAL-URL:https://portale.fnomceo.it
X-WR-CALDESC:Eventi per FNOMCeO
BEGIN:VTIMEZONE
TZID:Europe/Rome
BEGIN:DAYLIGHT
TZOFFSETFROM:+0100
TZOFFSETTO:+0200
TZNAME:CEST
DTSTART:20180325T010000
END:DAYLIGHT
BEGIN:STANDARD
TZOFFSETFROM:+0200
TZOFFSETTO:+0100
TZNAME:CET
DTSTART:20181028T010000
END:STANDARD
END:VTIMEZONE
BEGIN:VEVENT
DTSTART;VALUE=DATE:20180127
DTEND;VALUE=DATE:20180128
DTSTAMP:20260422T224750
CREATED:20180106T153833Z
LAST-MODIFIED:20180106T153833Z
UID:3974-1517011200-1517097599@portale.fnomceo.it
SUMMARY:Salute\, genere e medicina di genere oggi in Italia
DESCRIPTION:L’iscrizione al convegno è gratuita e comprende: ammissione ai lavori scientifici\, attestato di partecipazione\, moduli ECM\, coffee break e lunch. Il corso sarà accreditato presso l’apposita Commissione del Ministero della Salute \nPer iscriversi inviare una mail a a.ditofano@fasiweb.com
URL:https://portale.fnomceo.it/eventi-fnomceo/salute-genere-medicina-genere-oggi-italia/
LOCATION:Centro Congressi Multimediale IFO\, via Fermo Ognibene 23\, Roma\, Italia
GEO:41.803463;12.451666
X-APPLE-STRUCTURED-LOCATION;VALUE=URI;X-ADDRESS=Centro Congressi Multimediale IFO via Fermo Ognibene 23 Roma Italia;X-APPLE-RADIUS=500;X-TITLE=via Fermo Ognibene 23:geo:12.451666,41.803463
END:VEVENT
END:VCALENDAR