BEGIN:VCALENDAR
VERSION:2.0
PRODID:-//FNOMCeO - ECPv5.16.4//NONSGML v1.0//EN
CALSCALE:GREGORIAN
METHOD:PUBLISH
X-WR-CALNAME:FNOMCeO
X-ORIGINAL-URL:https://portale.fnomceo.it
X-WR-CALDESC:Eventi per FNOMCeO
BEGIN:VTIMEZONE
TZID:Europe/Rome
BEGIN:DAYLIGHT
TZOFFSETFROM:+0100
TZOFFSETTO:+0200
TZNAME:CEST
DTSTART:20260329T010000
END:DAYLIGHT
BEGIN:STANDARD
TZOFFSETFROM:+0200
TZOFFSETTO:+0100
TZNAME:CET
DTSTART:20261025T010000
END:STANDARD
END:VTIMEZONE
BEGIN:VEVENT
DTSTART;TZID=Europe/Rome:20260508T140000
DTEND;TZID=Europe/Rome:20260509T133000
DTSTAMP:20260424T062506
CREATED:20260423T131925Z
LAST-MODIFIED:20260423T131925Z
UID:89228-1778248800-1778333400@portale.fnomceo.it
SUMMARY:San Giovanni Rotondo (FG)\, Convegno “Le cure palliative: una scelta di vita”
DESCRIPTION:“Le cure palliative: una scelta di vita”\nSan Giovanni Rotondo (FG)\, Centro di accoglienza “Santa Maria delle Grazie”\n8 – 9 maggio 2026 \nSi terrà nei giorni 8 e 9 maggio 2026 a San Giovanni Rotondo il convegno dal titolo “Le cure palliative: una scelta di vita”\, organizzato dalla sezione pugliese dell’Associazione Medici Cattolici Italiani (AMCI) e la Società Italiana Cure Palliative (SICP)\, durante il quale verranno approfonditi l’approccio olistico alla cura\, il rispetto dell’autonomia del paziente e il ruolo delle cure palliative come modello di umanizzazione della medicina\, con un confronto tra aspetti clinici\, etici e spirituali. \n\nEvento patrocinato FNOMCeO
URL:https://portale.fnomceo.it/eventi-fnomceo/san-giovanni-rotondo-fg-convegno-le-cure-palliative-una-scelta-di-vita/
LOCATION:San Giovanni Rotondo (FG)\, Centro di accoglienza “Santa Maria delle Grazie”\, Piazza S. Pio\, Via S. Salvatore\, 5\, San Giovanni Rotondo\, Italia
CATEGORIES:Eventi patrocinati,Formazione e aggiornamento
GEO:41.707101;15.7090617
X-APPLE-STRUCTURED-LOCATION;VALUE=URI;X-ADDRESS=San Giovanni Rotondo (FG) Centro di accoglienza “Santa Maria delle Grazie” Piazza S. Pio Via S. Salvatore 5 San Giovanni Rotondo Italia;X-APPLE-RADIUS=500;X-TITLE=Piazza S. Pio\, Via S. Salvatore\, 5:geo:15.7090617,41.707101
END:VEVENT
END:VCALENDAR