BEGIN:VCALENDAR
VERSION:2.0
PRODID:-//FNOMCeO - ECPv5.16.4//NONSGML v1.0//EN
CALSCALE:GREGORIAN
METHOD:PUBLISH
X-WR-CALNAME:FNOMCeO
X-ORIGINAL-URL:https://portale.fnomceo.it
X-WR-CALDESC:Eventi per FNOMCeO
BEGIN:VTIMEZONE
TZID:Europe/Rome
BEGIN:DAYLIGHT
TZOFFSETFROM:+0100
TZOFFSETTO:+0200
TZNAME:CEST
DTSTART:20180325T010000
END:DAYLIGHT
BEGIN:STANDARD
TZOFFSETFROM:+0200
TZOFFSETTO:+0100
TZNAME:CET
DTSTART:20181028T010000
END:STANDARD
END:VTIMEZONE
BEGIN:VEVENT
DTSTART;TZID=Europe/Rome:20181027T083000
DTEND;TZID=Europe/Rome:20181027T190000
DTSTAMP:20260423T141129
CREATED:20181019T085704Z
LAST-MODIFIED:20181019T090158Z
UID:37008-1540629000-1540666800@portale.fnomceo.it
SUMMARY:Sanremo\, convegno "Volontà in vita in ambito sanitario"
DESCRIPTION:Dopo un iter lungo e travagliato\, il Parlamento italiano ha approvato la legge in tema di consenso e direttive anticipate di trattamento (DAT). Al centro dell’attenzione non solo il rispetto della autonomia della persona in tutte le fasi critiche dell’esistenza umana\, ma anche e soprattutto\, il lavoro di equipe\, la relazione di cura\, il rapporto con la transitorietà dell’esistenza\, la sofferenza\, la pianificazione condivisa e l’assistenza ai familiari. \nMolti sono gli interrogativi che si affacciano nella pratica sanitaria quotidiana su quanto e come intervenire\, o non intervenire\, a favore della persona assistita. Come comportarsi di fronte al dissenso? Come agire di fronte alla persona non più in grado di decidere in maniera autonoma? Fino a che punto spingersi nell’utilizzare strategie e\nstrumenti di mantenimento della vita? Quale è il valore delle DAT? Come conoscerle? Quale è il ruolo del fiduciario?\nTali interrogativi e dubbi su cui confrontarsi non riguardano solo la mera aderenza al dettato legislativo ma anche\, e ancor più\, la deontologia medica e le scelte etiche di ciascun operatore. \nIl convegno è articolato in sessioni teoriche-pratiche che illustrano e discutono le diverse problematiche e forniscono indicazioni operative in un’ottica aperta al confronto tra le diverse discipline e professioni sanitarie coinvolte. Durante il Convegno sarà presentata alla cittadinanza una Guida informativa approvata dall’Ordine dei Medici di Imperia congiuntamente all’Ordine dei Medici di Genova finalizzata a fornire indicazioni pratiche in tema di consenso e fine vita. \n\n\nPer le iscrizioni il modulo si trova a questo link.
URL:https://portale.fnomceo.it/eventi-fnomceo/sanremo-convegno-volonta-in-vita-in-ambito-sanitario/
LOCATION:Teatro del Casinò di Sanremo\, Corso degli Inglesi\, 13\, Sanremo\, Italia
CATEGORIES:Eventi degli Ordini,Formazione e aggiornamento
GEO:43.8149728;7.7711021
X-APPLE-STRUCTURED-LOCATION;VALUE=URI;X-ADDRESS=Teatro del Casinò di Sanremo Corso degli Inglesi 13 Sanremo Italia;X-APPLE-RADIUS=500;X-TITLE=Corso degli Inglesi\, 13:geo:7.7711021,43.8149728
END:VEVENT
END:VCALENDAR