BEGIN:VCALENDAR
VERSION:2.0
PRODID:-//FNOMCeO - ECPv5.16.4//NONSGML v1.0//EN
CALSCALE:GREGORIAN
METHOD:PUBLISH
X-WR-CALNAME:FNOMCeO
X-ORIGINAL-URL:https://portale.fnomceo.it
X-WR-CALDESC:Eventi per FNOMCeO
BEGIN:VTIMEZONE
TZID:Europe/Rome
BEGIN:DAYLIGHT
TZOFFSETFROM:+0100
TZOFFSETTO:+0200
TZNAME:CEST
DTSTART:20180325T010000
END:DAYLIGHT
BEGIN:STANDARD
TZOFFSETFROM:+0200
TZOFFSETTO:+0100
TZNAME:CET
DTSTART:20181028T010000
END:STANDARD
END:VTIMEZONE
BEGIN:VEVENT
DTSTART;TZID=Europe/Rome:20181012T143000
DTEND;TZID=Europe/Rome:20181012T200000
DTSTAMP:20260423T072532
CREATED:20180918T101333Z
LAST-MODIFIED:20180918T103712Z
UID:36208-1539354600-1539374400@portale.fnomceo.it
SUMMARY:Sassari\, “Aggiornamenti in tema di valutazione dello stress correlato al lavoro”
DESCRIPTION:Venerdì 12 ottobre alle ore 14.30\, si terrà presso la Sala Conferenze “Egidio Depperu” dell’Ordine dei Medici chirurghi e degli Odontoiatri della provincia di Sassari il corso di aggiornamento ECM dal titolo Aggiornamenti in tema di valutazione dello stress correlato al lavoro.\nIl corso è accreditato nell’ambito del  programma di formazione continua in medicina (ECM) per la professione di Medico Chirurgo per n. 49 partecipanti e sono stati riconosciuti n. 5 crediti formativi.\nSi comunica che le preiscrizioni saranno gestite come segue:\ndal 12.09.2018 potranno iscriversi i soli Medici competenti;\ndal 27.09.2018 potranno iscriversi tutti gli altri medici interessati e appartenenti all’Ordine dei Medici Chirurghi e degli Odontoiatri della provincia di Sassari.\nGli interessati potranno iscriversi attraverso la procedura di iscrizione on line\, accedendo al seguente link Iscrizioni on line \nTipologia evento \nCorso residenziale n. 2603- 238544\, Edizione n. 1\nCrediti E.C.M.  \nN. 5 Crediti formativi\nProfessioni accreditate\nMedico Chirurgo\nObiettivo \nSicurezza negli ambienti e nei luoghi di lavoro e patologie correlate\nAcquisizione Crediti  \nPresenza dell’interessato documentata per almeno il 90% della durata dell’evento.\nSi dovrà rispondere correttamente almeno al 75% del questionario apprendimento ECM e compilare le schede di valutazione di gradimento
URL:https://portale.fnomceo.it/eventi-fnomceo/sassari-aggiornamenti-in-tema-di-valutazione-dello-stress-correlato-al-lavoro/
LOCATION:Sala Conferenze “Egidio Depperu” Omceo Sassari\, in Via Cavour 71/b\, Sassari\, Italia
CATEGORIES:Eventi degli Ordini,Formazione e aggiornamento
ORGANIZER;CN="OMCeO%20Sassari":MAILTO:ordine@omceoss.org
GEO:40.7220307;8.56542
X-APPLE-STRUCTURED-LOCATION;VALUE=URI;X-ADDRESS=Sala Conferenze “Egidio Depperu” Omceo Sassari in Via Cavour 71/b Sassari Italia;X-APPLE-RADIUS=500;X-TITLE=in Via Cavour 71/b:geo:8.56542,40.7220307
END:VEVENT
END:VCALENDAR