BEGIN:VCALENDAR
VERSION:2.0
PRODID:-//FNOMCeO - ECPv5.16.4//NONSGML v1.0//EN
CALSCALE:GREGORIAN
METHOD:PUBLISH
X-WR-CALNAME:FNOMCeO
X-ORIGINAL-URL:https://portale.fnomceo.it
X-WR-CALDESC:Eventi per FNOMCeO
BEGIN:VTIMEZONE
TZID:Europe/Rome
BEGIN:DAYLIGHT
TZOFFSETFROM:+0100
TZOFFSETTO:+0200
TZNAME:CEST
DTSTART:20180325T010000
END:DAYLIGHT
BEGIN:STANDARD
TZOFFSETFROM:+0200
TZOFFSETTO:+0100
TZNAME:CET
DTSTART:20181028T010000
END:STANDARD
END:VTIMEZONE
BEGIN:VEVENT
DTSTART;TZID=Europe/Rome:20180929T083000
DTEND;TZID=Europe/Rome:20180929T170000
DTSTAMP:20260423T163858
CREATED:20180829T152820Z
LAST-MODIFIED:20180829T152820Z
UID:35702-1538209800-1538240400@portale.fnomceo.it
SUMMARY:Sassari\, “Appropriatezza in endocrinologia: la tiroide”
DESCRIPTION:L’Ordine dei Medici Chirurghi e degli Odontoiatri della provincia di Sassari\, la U.O. di Endocrinologia\, dell’AOU di Sassari e l’AME Sardegna (Associazione Medici Endocrinologi)\, hanno organizzato il corso di aggiornamento ECM dal titolo Appropriatezza in endocrinologia: la tiroide che si terrà ad Olbia\, Sabato 29 settembre 2018\, alle ore 09.00\, presso Hotel DoubleTree by Hilton\, in Via Isarco n. 5/7.\nL’incontro avrà un taglio estremamente pratico.\nL’obiettivo è quello di instaurare una collaborazione ed una strategia comune fra colleghi per l’avvio dei pazienti ai centri di riferimento per le prime visite e per il loro follow-up presso il medico curante nonché  l’attivazione di un call center dedicato.\nIl corso è accreditato nell’ambito del  programma di formazione continua in medicina (ECM) per la professione di Medico Chirurgo per n. 60 partecipanti e sono stati riconosciuti n. 4 crediti formativi.\nSi comunica che le preiscrizioni saranno aperte mercoledì 29 agosto 2018.\nGli interessati potranno iscriversi attraverso la procedura di iscrizione on line\, accendendo a seguente link Iscrizioni on line \nInformazioni evento \nTipologia evento\nCorso residenziale n. 2603 – 238506\, Edizione n. 1\nCrediti E.C.M.                      \nN. 4 Crediti formativi\nProfessione accreditata\nMedico Chirurgo\nNumero partecipanti     \nn. 60\nDiscipline     \nInterdisciplinare\nObiettivo    \nLinee guida – Protocolli – Procedure\nAcquisizione Crediti    \nPresenza dell’interessato documentata per almeno il 90% della durata dell’evento.\nSi dovrà rispondere correttamente almeno al 75% del questionario apprendimento ECM e compilare le schede di valutazione di gradimento.
URL:https://portale.fnomceo.it/eventi-fnomceo/sassari-appropriatezza-in-endocrinologia-la-tiroide/
LOCATION:Centro culturale San Francesco\, Piazza San Francesco\, Ozieri\, SS\, Italia
ORGANIZER;CN="OMCeO%20Sassari":MAILTO:ordine@omceoss.org
GEO:40.5855436;9.0005785
X-APPLE-STRUCTURED-LOCATION;VALUE=URI;X-ADDRESS=Centro culturale San Francesco Piazza San Francesco Ozieri SS Italia;X-APPLE-RADIUS=500;X-TITLE=Piazza San Francesco:geo:9.0005785,40.5855436
END:VEVENT
END:VCALENDAR