BEGIN:VCALENDAR
VERSION:2.0
PRODID:-//FNOMCeO - ECPv5.16.4//NONSGML v1.0//EN
CALSCALE:GREGORIAN
METHOD:PUBLISH
X-WR-CALNAME:FNOMCeO
X-ORIGINAL-URL:https://portale.fnomceo.it
X-WR-CALDESC:Eventi per FNOMCeO
BEGIN:VTIMEZONE
TZID:Europe/Rome
BEGIN:DAYLIGHT
TZOFFSETFROM:+0100
TZOFFSETTO:+0200
TZNAME:CEST
DTSTART:20190331T010000
END:DAYLIGHT
BEGIN:STANDARD
TZOFFSETFROM:+0200
TZOFFSETTO:+0100
TZNAME:CET
DTSTART:20191027T010000
END:STANDARD
END:VTIMEZONE
BEGIN:VEVENT
DTSTART;TZID=Europe/Rome:20190119T083000
DTEND;TZID=Europe/Rome:20190119T153000
DTSTAMP:20260424T081048
CREATED:20190111T173242Z
LAST-MODIFIED:20190111T173242Z
UID:38975-1547886600-1547911800@portale.fnomceo.it
SUMMARY:Sassari\, “Discussione di casi clinici in chirurgia”
DESCRIPTION:L’Ordine dei Medici Chirurghi e degli Odontoiatri della provincia di Sassari ha organizzato il corso di aggiornamento ECM dal titolo Discussione di casi clinici in chirurgia che si terrà a Sassari Sabato 19 gennaio 2019\, alle ore 08.30\, presso Sala Conferenze dell’Ordine dei Medici Chirurghi e degli Odontoiatri della provincia di Sassari\, in Via Cavour 71/b.\nIl corso è accreditato nell’ambito del  programma di formazione continua in medicina (ECM) per la professione di Medico Chirurgo per n. 60 partecipanti e sono stati riconosciuti n. 4 crediti formativi.\nSi comunica che le preiscrizioni saranno aperte mercoledì 19 dicembre 2018.\nGli interessati potranno iscriversi attraverso la procedura di iscrizione on line\, accendendo al link Iscrizioni on line. \nInformazioni evento \nTipologia evento   \nCorso residenziale n. 2603 – 24397\, Edizione n. 1\nCrediti E.C.M.    \nN. 4 Crediti formativi\nProfessione accreditata \nMedico Chirurgo\nNumero partecipanti\nN. 60\nDiscipline         \nInterdisciplinare\nObiettivo \nApplicazione nella pratica quotidiana dei principi e delle procedure dell’Evidence Based Practice – EBM-EBN-EBP\nAcquisizione Crediti  \nPresenza dell’interessato documentata per almeno il 90% della durata dell’evento.\nSi dovrà rispondere correttamente almeno al 75% del questionario apprendimento ECM (test a domanda multipla) e compilare le schede di valutazione di gradimento>>
URL:https://portale.fnomceo.it/eventi-fnomceo/sassari-discussione-di-casi-clinici-in-chirurgia/
LOCATION:Sala Conferenze “Egidio Depperu” Omceo Sassari\, in Via Cavour 71/b\, Sassari\, Italia
CATEGORIES:Eventi degli Ordini,Formazione e aggiornamento
ORGANIZER;CN="OMCeO%20Sassari":MAILTO:ordine@omceoss.org
GEO:40.7220307;8.56542
X-APPLE-STRUCTURED-LOCATION;VALUE=URI;X-ADDRESS=Sala Conferenze “Egidio Depperu” Omceo Sassari in Via Cavour 71/b Sassari Italia;X-APPLE-RADIUS=500;X-TITLE=in Via Cavour 71/b:geo:8.56542,40.7220307
END:VEVENT
END:VCALENDAR