BEGIN:VCALENDAR
VERSION:2.0
PRODID:-//FNOMCeO - ECPv5.16.4//NONSGML v1.0//EN
CALSCALE:GREGORIAN
METHOD:PUBLISH
X-WR-CALNAME:FNOMCeO
X-ORIGINAL-URL:https://portale.fnomceo.it
X-WR-CALDESC:Eventi per FNOMCeO
BEGIN:VTIMEZONE
TZID:Europe/Rome
BEGIN:DAYLIGHT
TZOFFSETFROM:+0100
TZOFFSETTO:+0200
TZNAME:CEST
DTSTART:20190331T010000
END:DAYLIGHT
BEGIN:STANDARD
TZOFFSETFROM:+0200
TZOFFSETTO:+0100
TZNAME:CET
DTSTART:20191027T010000
END:STANDARD
END:VTIMEZONE
BEGIN:VEVENT
DTSTART;TZID=Europe/Rome:20190928T090000
DTEND;TZID=Europe/Rome:20190928T190000
DTSTAMP:20260422T174913
CREATED:20190904T142401Z
LAST-MODIFIED:20190904T142401Z
UID:44709-1569661200-1569697200@portale.fnomceo.it
SUMMARY:Sassari\, Evento E.C.M. “Cannabis terapeutica: corso teorico pratico per la corretta prescrizione”
DESCRIPTION:L’Ordine dei Medici Chirurghi e degli Odontoiatri della provincia di Sassari ha organizzato il primo evento E.C.M. in Sardegna sulla prescrizione della Cannabis.\nIl corso dal titolo “Cannabis terapeutica: corso teorico pratico per la corretta prescrizione”\, si terrà a Sassari sabato 28.09.2019\, alle ore 09.00\, presso la  Sala Conferenze “Egidio Depperu” dell’Ordine dei Medici Chirurghi e degli Odontoiatri della provincia di Sassari\, in Via Cavour 71/b.\nIl corso è accreditato nell’ambito del  programma di formazione continua in medicina (ECM)\, per la professione di Medico Chirurgo e di Odontoiatra per n. 60 partecipanti e sono stati riconosciuti n. 6 crediti formativi.\nSi comunica che le preiscrizioni saranno aperte mercoledì 28 agosto 2019.\nGli interessati potranno iscriversi attraverso la procedura di iscrizione on line collegandosi al seguente link Iscrizioni online
URL:https://portale.fnomceo.it/eventi-fnomceo/sassari-evento-e-c-m-cannabis-terapeutica-corso-teorico-pratico-per-la-corretta-prescrizione/
LOCATION:Sala conferenze “Egidio Depperu” dell’Ordine dei Medici Chirurghi e degli Odontoiatri della provincia di Sassari\, Via Cavour 71/B\, Sassari\, Italia
CATEGORIES:Eventi degli Ordini,Formazione e aggiornamento
ORGANIZER;CN="OMCeO%20Sassari":MAILTO:ordine@omceoss.org
GEO:40.7220932;8.5654046
X-APPLE-STRUCTURED-LOCATION;VALUE=URI;X-ADDRESS=Sala conferenze “Egidio Depperu” dell’Ordine dei Medici Chirurghi e degli Odontoiatri della provincia di Sassari Via Cavour 71/B Sassari Italia;X-APPLE-RADIUS=500;X-TITLE=Via Cavour 71/B:geo:8.5654046,40.7220932
END:VEVENT
END:VCALENDAR