BEGIN:VCALENDAR
VERSION:2.0
PRODID:-//FNOMCeO - ECPv5.16.4//NONSGML v1.0//EN
CALSCALE:GREGORIAN
METHOD:PUBLISH
X-WR-CALNAME:FNOMCeO
X-ORIGINAL-URL:https://portale.fnomceo.it
X-WR-CALDESC:Eventi per FNOMCeO
BEGIN:VTIMEZONE
TZID:Europe/Rome
BEGIN:DAYLIGHT
TZOFFSETFROM:+0100
TZOFFSETTO:+0200
TZNAME:CEST
DTSTART:20230326T010000
END:DAYLIGHT
BEGIN:STANDARD
TZOFFSETFROM:+0200
TZOFFSETTO:+0100
TZNAME:CET
DTSTART:20231029T010000
END:STANDARD
END:VTIMEZONE
BEGIN:VEVENT
DTSTART;TZID=Europe/Rome:20230211T090000
DTEND;TZID=Europe/Rome:20230211T170000
DTSTAMP:20260423T154508
CREATED:20230123T153032Z
LAST-MODIFIED:20230123T153032Z
UID:69532-1676106000-1676134800@portale.fnomceo.it
SUMMARY:Savona\, Convegno “Pazienti e radiazioni: un utilizzo consapevole per un approccio sostenibile”
DESCRIPTION:Convegno “Pazienti e radiazioni: un utilizzo consapevole per un approccio sostenibile”\nSavona\, 11 febbraio e 15 aprile 2023 \nL’OMCeO di Savona\, in collaborazione con Asl2\, organizza un evento formativo sulla radioprotezione del paziente\, per una sanità sostenibile anche nell’impiego delle tecniche di diagnosi e terapia che prevedono l’impiego delle radiazioni ionizzanti. \n\nEvento organizzato con patrocinio FNOMCeO \n 
URL:https://portale.fnomceo.it/eventi-fnomceo/savona-convegno-pazienti-e-radiazioni-un-utilizzo-consapevole-per-un-approccio-sostenibile-2/2023-02-11/
LOCATION:OMCeO Savona\, Italia
CATEGORIES:Eventi degli Ordini,Formazione e aggiornamento
ATTACH;FMTTYPE=image/jpeg:https://portale.fnomceo.it/wp-content/uploads/2023/01/pazienti-radiazioni-savona.jpg
GEO:41.87194;12.56738
END:VEVENT
END:VCALENDAR