BEGIN:VCALENDAR
VERSION:2.0
PRODID:-//FNOMCeO - ECPv5.16.4//NONSGML v1.0//EN
CALSCALE:GREGORIAN
METHOD:PUBLISH
X-WR-CALNAME:FNOMCeO
X-ORIGINAL-URL:https://portale.fnomceo.it
X-WR-CALDESC:Eventi per FNOMCeO
BEGIN:VTIMEZONE
TZID:Europe/Rome
BEGIN:DAYLIGHT
TZOFFSETFROM:+0100
TZOFFSETTO:+0200
TZNAME:CEST
DTSTART:20260329T010000
END:DAYLIGHT
BEGIN:STANDARD
TZOFFSETFROM:+0200
TZOFFSETTO:+0100
TZNAME:CET
DTSTART:20261025T010000
END:STANDARD
END:VTIMEZONE
BEGIN:VEVENT
DTSTART;TZID=Europe/Rome:20260318T203000
DTEND;TZID=Europe/Rome:20260318T223000
DTSTAMP:20260419T141154
CREATED:20260210T132405Z
LAST-MODIFIED:20260210T132405Z
UID:87859-1773865800-1773873000@portale.fnomceo.it
SUMMARY:Savona\, "La scienza tradita: strumenti e storie della ciarlataneria medica"
DESCRIPTION:“La scienza tradita: strumenti e storie della ciarlataneria medica”\nSavona\, Sede OMCeO\n18 marzo 2026 \nSi terrà il 18 marzo 2026 a Savona\, presso la sala convegni dell’OMCeO\, l’evento dal titolo “La scienza tradita: strumenti e storie della ciarlataneria medica”\, durante il quale verranno approfonditi i casi storici di pseudoscienza e pratiche ingannevoli\, analizzando il confine tra medicina\, etica e inganno.La serata è il 3° incontro dell’iniziativa “Racconti di medicina”\, la quale prevede una serie di eventi a stampo scientifico e divulgativo\, che saranno aperti al pubblico e agli studenti delle scuole aderenti al percorso “Biologia con Curvatura Biomedica”.
URL:https://portale.fnomceo.it/eventi-fnomceo/savona-la-scienza-tradita-strumenti-e-storie-della-ciarlataneria-medica/
LOCATION:Savona\, Sala Convegni OMCeO Savona\, P.zza Weil 40\, Savona
CATEGORIES:Eventi degli Ordini
GEO:44.298387;8.4645331
X-APPLE-STRUCTURED-LOCATION;VALUE=URI;X-ADDRESS=Savona Sala Convegni OMCeO Savona P.zza Weil 40 Savona;X-APPLE-RADIUS=500;X-TITLE=P.zza Weil 40:geo:8.4645331,44.298387
END:VEVENT
END:VCALENDAR