BEGIN:VCALENDAR
VERSION:2.0
PRODID:-//FNOMCeO - ECPv5.16.4//NONSGML v1.0//EN
CALSCALE:GREGORIAN
METHOD:PUBLISH
X-WR-CALNAME:FNOMCeO
X-ORIGINAL-URL:https://portale.fnomceo.it
X-WR-CALDESC:Eventi per FNOMCeO
BEGIN:VTIMEZONE
TZID:Europe/Rome
BEGIN:DAYLIGHT
TZOFFSETFROM:+0100
TZOFFSETTO:+0200
TZNAME:CEST
DTSTART:20190331T010000
END:DAYLIGHT
BEGIN:STANDARD
TZOFFSETFROM:+0200
TZOFFSETTO:+0100
TZNAME:CET
DTSTART:20191027T010000
END:STANDARD
END:VTIMEZONE
BEGIN:VEVENT
DTSTART;TZID=Europe/Rome:20191207T080000
DTEND;TZID=Europe/Rome:20191207T130000
DTSTAMP:20260423T154435
CREATED:20191125T145812Z
LAST-MODIFIED:20191125T145812Z
UID:47021-1575705600-1575723600@portale.fnomceo.it
SUMMARY:Savona\, “VI Forum Sanità. Il giovane medico e la professione: tra passato e futuro”
DESCRIPTION:I giovani medici od odontoiatri si trovano all’inizio della loro professione confrontati a svariate criticità anche in base alla scelta lavorativa personale: territoriale\, ospedaliera\, specialistica\, libero professionale od altre. Il percorso formativo dell’evento si ripromette di dissipare queste problematiche nella speranza di rendere più semplice l’avvio alla professione.
URL:https://portale.fnomceo.it/eventi-fnomceo/savona-vi-forum-sanita-il-giovane-medico-e-la-professione-tra-passato-e-futuro/
LOCATION:OMCeO Savona\, Italia
CATEGORIES:Eventi degli Ordini,Formazione e aggiornamento
GEO:41.87194;12.56738
END:VEVENT
END:VCALENDAR