BEGIN:VCALENDAR
VERSION:2.0
PRODID:-//FNOMCeO - ECPv5.16.4//NONSGML v1.0//EN
CALSCALE:GREGORIAN
METHOD:PUBLISH
X-WR-CALNAME:FNOMCeO
X-ORIGINAL-URL:https://portale.fnomceo.it
X-WR-CALDESC:Eventi per FNOMCeO
BEGIN:VTIMEZONE
TZID:Europe/Rome
BEGIN:DAYLIGHT
TZOFFSETFROM:+0100
TZOFFSETTO:+0200
TZNAME:CEST
DTSTART:20180325T010000
END:DAYLIGHT
BEGIN:STANDARD
TZOFFSETFROM:+0200
TZOFFSETTO:+0100
TZNAME:CET
DTSTART:20181028T010000
END:STANDARD
END:VTIMEZONE
BEGIN:VEVENT
DTSTART;TZID=Europe/Rome:20181112T080000
DTEND;TZID=Europe/Rome:20181112T170000
DTSTAMP:20260425T232044
CREATED:20180715T074008Z
LAST-MODIFIED:20180715T074008Z
UID:34896-1542009600-1542042000@portale.fnomceo.it
SUMMARY:Scuola Nazionale di Stomaterapia Aistom
DESCRIPTION:La Scuola Nazionale di Stomaterapia Aistom ha l’obiettivo di fornire agli Operatori sanitari le conoscenze scientifiche\, tecniche\, legislative e metodologiche che gli consentano di affrontare la presa in carico\, la prevenzione\, la gestione\, la cura e l’assistenza dei pazienti con stomie definitive o temporanee\, come pure la presa in carico dell’incontinente. \nLa Scuola è ripartita in quattro Moduli Didattici\, due di teoria e due di pratica (presso Centri Accreditati e riconosciuti da AISTOM\, presenti sull’intero territorio nazionale) e si svolgerà dal 12 novembre 2018 al 13 aprile 2019
URL:https://portale.fnomceo.it/eventi-fnomceo/scuola-nazionale-di-stomaterapia-aistom/
CATEGORIES:Formazione e aggiornamento
END:VEVENT
END:VCALENDAR