BEGIN:VCALENDAR
VERSION:2.0
PRODID:-//FNOMCeO - ECPv5.16.4//NONSGML v1.0//EN
CALSCALE:GREGORIAN
METHOD:PUBLISH
X-WR-CALNAME:FNOMCeO
X-ORIGINAL-URL:https://portale.fnomceo.it
X-WR-CALDESC:Eventi per FNOMCeO
BEGIN:VTIMEZONE
TZID:Europe/Rome
BEGIN:DAYLIGHT
TZOFFSETFROM:+0100
TZOFFSETTO:+0200
TZNAME:CEST
DTSTART:20200329T010000
END:DAYLIGHT
BEGIN:STANDARD
TZOFFSETFROM:+0200
TZOFFSETTO:+0100
TZNAME:CET
DTSTART:20201025T010000
END:STANDARD
END:VTIMEZONE
BEGIN:VEVENT
DTSTART;TZID=Europe/Rome:20201112T080000
DTEND;TZID=Europe/Rome:20201113T170000
DTSTAMP:20260422T130911
CREATED:20200921T151817Z
LAST-MODIFIED:20201110T110540Z
UID:53279-1605168000-1605286800@portale.fnomceo.it
SUMMARY:Sorrento (NA)\, V Congresso Nazionale SIPaD “Il trattamento dei disturbi da uso di sostanze. Innovazioni nella cura delle persone con patologie da dipendenza”
DESCRIPTION:OBIETTIVI \nIdentificare e descrivere i nuovi sviluppi che riguardano la scienza\, la politica e la pratica clinica della medicina delle dipendenze. \nConfrontare le linee guida e le migliori pratiche ricorrenti nei SerD per identificare i punti di forza o le lacune\, anche alla luce dell’impatto sull’acceso alle cure\, sul fenomeno del consumo di sostanze e sui nostri pazienti determinati dalla pandemia da SARS-CoV-2. \nAnalizzare le nuove ricerche e tecniche terapeutiche per sviluppare applicazioni pratiche per il trattamento delle patologie da dipendenza e delle malattie correlate. \nCreare una rete di professionisti e un insieme di risorse che possono essere utilizzate per supportare la pratica quotidiana dei professionisti dei SerD.
URL:https://portale.fnomceo.it/eventi-fnomceo/sorrento-na-v-congresso-nazionale-sipad-il-trattamento-dei-disturbi-da-uso-di-sostanze-innovazioni-nella-cura-delle-persone-con-patologie-da-dipendenza/
LOCATION:Sorrento\, Hilton Sorrento Palace\, Via Sant'Antonio\, 13\, Sorrento\, Napoli\, 80067\, Italia
GEO:40.6208315;14.3720468
X-APPLE-STRUCTURED-LOCATION;VALUE=URI;X-ADDRESS=Sorrento Hilton Sorrento Palace Via Sant'Antonio 13 Sorrento Napoli 80067 Italia;X-APPLE-RADIUS=500;X-TITLE=Via Sant'Antonio\, 13:geo:14.3720468,40.6208315
END:VEVENT
END:VCALENDAR