BEGIN:VCALENDAR
VERSION:2.0
PRODID:-//FNOMCeO - ECPv5.16.4//NONSGML v1.0//EN
CALSCALE:GREGORIAN
METHOD:PUBLISH
X-WR-CALNAME:FNOMCeO
X-ORIGINAL-URL:https://portale.fnomceo.it
X-WR-CALDESC:Eventi per FNOMCeO
BEGIN:VTIMEZONE
TZID:Europe/Rome
BEGIN:DAYLIGHT
TZOFFSETFROM:+0100
TZOFFSETTO:+0200
TZNAME:CEST
DTSTART:20210328T010000
END:DAYLIGHT
BEGIN:STANDARD
TZOFFSETFROM:+0200
TZOFFSETTO:+0100
TZNAME:CET
DTSTART:20211031T010000
END:STANDARD
END:VTIMEZONE
BEGIN:VEVENT
DTSTART;TZID=Europe/Rome:20210312T093000
DTEND;TZID=Europe/Rome:20210313T173000
DTSTAMP:20260422T162423
CREATED:20200213T143730Z
LAST-MODIFIED:20200707T145047Z
UID:48434-1615541400-1615656600@portale.fnomceo.it
SUMMARY:Torino\, “3° Meeting nazionale P.O.I.S. - Attività e prospettive”
DESCRIPTION:Programma\nIl congresso nazionale POIS 2020 si articolerà su due giornate di lavori. \nNella prima\, venerdì 13 marzo\, si alterneranno due sessioni dedicate a grandi temi di attualità\, quali il management sanitario e l’ERAS e l’ERAS nelle specialità chirurgiche oltre ad un interessante e\, per le caratteristiche di talk show con cui è concepito\, innovativo dibattito con un panel di esperti su tutto quanto ruota intorno al mondo ERAS. \nNella seconda giornata\, sabato 14 marzo\, spiccano una lettura magistrale dedicata a Ken Fearon\, uno padri dell’ERAS e un’ampia sessione infermieristica e dietistica. \nLa presentazione\, sotto forma di comunicazioni e poster\, di lavori provenienti dai centri ospedalieri di tutta Italia (i migliori tra questi saranno insigniti del Premio POIS 2020) completerà la ricca offerta scientifica della manifestazione. \nIl programma dettagliato\, attualmente in via di completamente da parte del comitato scientifico\, sarà pubblicato entro breve.
URL:https://portale.fnomceo.it/eventi-fnomceo/torino-3-meeting-nazionale-p-o-i-s-attivita-e-prospettive/
LOCATION:Torino\, Centro Congressi Lingotto\, Via Nizza\, 280\, Torino\, Italia
CATEGORIES:Formazione e aggiornamento
GEO:45.0310553;7.6648842
X-APPLE-STRUCTURED-LOCATION;VALUE=URI;X-ADDRESS=Torino Centro Congressi Lingotto Via Nizza 280 Torino Italia;X-APPLE-RADIUS=500;X-TITLE=Via Nizza\, 280:geo:7.6648842,45.0310553
END:VEVENT
END:VCALENDAR