BEGIN:VCALENDAR
VERSION:2.0
PRODID:-//FNOMCeO - ECPv5.16.4//NONSGML v1.0//EN
CALSCALE:GREGORIAN
METHOD:PUBLISH
X-WR-CALNAME:FNOMCeO
X-ORIGINAL-URL:https://portale.fnomceo.it
X-WR-CALDESC:Eventi per FNOMCeO
BEGIN:VTIMEZONE
TZID:Europe/Rome
BEGIN:DAYLIGHT
TZOFFSETFROM:+0100
TZOFFSETTO:+0200
TZNAME:CEST
DTSTART:20200329T010000
END:DAYLIGHT
BEGIN:STANDARD
TZOFFSETFROM:+0200
TZOFFSETTO:+0100
TZNAME:CET
DTSTART:20201025T010000
END:STANDARD
END:VTIMEZONE
BEGIN:VEVENT
DTSTART;TZID=Europe/Rome:20200124T080000
DTEND;TZID=Europe/Rome:20200124T170000
DTSTAMP:20260422T213557
CREATED:20191126T101423Z
LAST-MODIFIED:20191126T103114Z
UID:47043-1579852800-1579885200@portale.fnomceo.it
SUMMARY:Torino\, Corso di perfezionamento annuale in “Odontoiatria forense e identificazione personale”
DESCRIPTION:Lo scopo del corso di perfezionamento sono la formazione e l’aggiornamento professionale negli accertamenti medicolegali\, e in particolare in quelli dell’odontologia forense\, relativi all’attribuzione personale di resti umani e dei ‘corpi senza nome’\, al management ed alla identificazione delle vittime di mass disaster (DVI)\, alla stima e determinazione dell’età cronologica e del profilo biologico di soggetti viventi o deceduti\, all’analisi di evidenze e lesioni correlabili al morso umano. Il corso sarà in lingua italiana e in lingua inglese ed è rivolto prevalentemente ai medici odontoiatri. \nLa domanda di partecipazione al concorso deve essere compilata online seguendo le istruzioni presenti sul Portale d’Ateneo www.unito.it \n\nInizio iscrizioni: 9 ottobre 2019 h. 9.30\nFine iscrizioni: Prorogata al 2 Dicembre 2019
URL:https://portale.fnomceo.it/eventi-fnomceo/torino-corso-di-perfezionamento-annuale-in-odontoiatria-forense-e-identificazione-personale/
LOCATION:Università di Torino\, Via Verdi\, 8\, Torino\, 10124\, Italia
CATEGORIES:Formazione e aggiornamento
GEO:45.0696744;7.689042
X-APPLE-STRUCTURED-LOCATION;VALUE=URI;X-ADDRESS=Università di Torino Via Verdi 8 Torino 10124 Italia;X-APPLE-RADIUS=500;X-TITLE=Via Verdi\, 8:geo:7.689042,45.0696744
END:VEVENT
END:VCALENDAR