BEGIN:VCALENDAR
VERSION:2.0
PRODID:-//FNOMCeO - ECPv5.16.4//NONSGML v1.0//EN
CALSCALE:GREGORIAN
METHOD:PUBLISH
X-WR-CALNAME:FNOMCeO
X-ORIGINAL-URL:https://portale.fnomceo.it
X-WR-CALDESC:Eventi per FNOMCeO
BEGIN:VTIMEZONE
TZID:Europe/Rome
BEGIN:DAYLIGHT
TZOFFSETFROM:+0100
TZOFFSETTO:+0200
TZNAME:CEST
DTSTART:20240331T010000
END:DAYLIGHT
BEGIN:STANDARD
TZOFFSETFROM:+0200
TZOFFSETTO:+0100
TZNAME:CET
DTSTART:20241027T010000
END:STANDARD
END:VTIMEZONE
BEGIN:VEVENT
DTSTART;TZID=Europe/Rome:20240504T080000
DTEND;TZID=Europe/Rome:20240504T140000
DTSTAMP:20260420T134931
CREATED:20240405T093921Z
LAST-MODIFIED:20240405T093921Z
UID:76934-1714809600-1714831200@portale.fnomceo.it
SUMMARY:Torino\, "Il contenzioso in odontoiatria: tra tutela del paziente e responsabilità dell’odontoiatra"
DESCRIPTION:“Il contenzioso in odontoiatria: tra tutela del paziente e responsabilità dell’odontoiatra”\nTorino\, Villa Raby\n4 maggio 2024 \nSi terrà a Torino\, presso la sede dell’Ordine a Villa Raby\, il corso ECM dal titolo “Il contenzioso in odontoiatria: tra tutela del paziente e responsabilità dell’odontoiatra”. Si tratteranno temi come il consenso informato e la gestione della cartella clinica. \nEvento n. 4196-413448\n6.5 crediti ECM\, accreditato per Medici Chirurghi e Odontoiatri. \nA cura della Commissione Albo Odontoiatri dell’OMCeO Torino\, organizzato in collaborazione con la SIOF.
URL:https://portale.fnomceo.it/eventi-fnomceo/torino-il-contenzioso-in-odontoiatria-tra-tutela-del-paziente-e-responsabilita-dellodontoiatra/
LOCATION:Torino\, villa Raby\, Corso Francia\, 8\, Torino\, 10143\, Italia
CATEGORIES:Eventi degli Ordini,Formazione e aggiornamento
ATTACH;FMTTYPE=image/jpeg:https://portale.fnomceo.it/wp-content/uploads/2023/08/odontoiatri-dentisti-evidenza-strumentazione-strumenti.jpg
GEO:45.0767147;7.666043
X-APPLE-STRUCTURED-LOCATION;VALUE=URI;X-ADDRESS=Torino villa Raby Corso Francia 8 Torino 10143 Italia;X-APPLE-RADIUS=500;X-TITLE=Corso Francia\, 8:geo:7.666043,45.0767147
END:VEVENT
END:VCALENDAR