BEGIN:VCALENDAR
VERSION:2.0
PRODID:-//FNOMCeO - ECPv5.16.4//NONSGML v1.0//EN
CALSCALE:GREGORIAN
METHOD:PUBLISH
X-WR-CALNAME:FNOMCeO
X-ORIGINAL-URL:https://portale.fnomceo.it
X-WR-CALDESC:Eventi per FNOMCeO
BEGIN:VTIMEZONE
TZID:Europe/Rome
BEGIN:DAYLIGHT
TZOFFSETFROM:+0100
TZOFFSETTO:+0200
TZNAME:CEST
DTSTART:20180325T010000
END:DAYLIGHT
BEGIN:STANDARD
TZOFFSETFROM:+0200
TZOFFSETTO:+0100
TZNAME:CET
DTSTART:20181028T010000
END:STANDARD
END:VTIMEZONE
BEGIN:VEVENT
DTSTART;VALUE=DATE:20181116
DTEND;VALUE=DATE:20181118
DTSTAMP:20260425T230523
CREATED:20180704T075407Z
LAST-MODIFIED:20180704T075407Z
UID:34688-1542326400-1542499199@portale.fnomceo.it
SUMMARY:Torino urologicamente barocca. 5° Simposio Interregionale di Urologia
DESCRIPTION:L’evento sarà accreditato nel Programma Nazionale ECM-AGENAS per 100 Medici Chirurghi (specialisti in: urologia; anestesiologia\, oncologia; ginecologia ed ostetricia\, radioterapia; anatomia patologica; medicina generale; medicina fisica e riabilitazione) e Infermieri.
URL:https://portale.fnomceo.it/eventi-fnomceo/torino-urologicamente-barocca-5-simposio-interregionale-di-urologia/
LOCATION:NH Santo Stefano\, via Porta Palatina 19\, Torino\, Italia
CATEGORIES:Formazione e aggiornamento
GEO:45.0740658;7.6838179
X-APPLE-STRUCTURED-LOCATION;VALUE=URI;X-ADDRESS=NH Santo Stefano via Porta Palatina 19 Torino Italia;X-APPLE-RADIUS=500;X-TITLE=via Porta Palatina 19:geo:7.6838179,45.0740658
END:VEVENT
END:VCALENDAR