BEGIN:VCALENDAR
VERSION:2.0
PRODID:-//FNOMCeO - ECPv5.16.4//NONSGML v1.0//EN
CALSCALE:GREGORIAN
METHOD:PUBLISH
X-WR-CALNAME:FNOMCeO
X-ORIGINAL-URL:https://portale.fnomceo.it
X-WR-CALDESC:Eventi per FNOMCeO
BEGIN:VTIMEZONE
TZID:Europe/Rome
BEGIN:DAYLIGHT
TZOFFSETFROM:+0100
TZOFFSETTO:+0200
TZNAME:CEST
DTSTART:20230326T010000
END:DAYLIGHT
BEGIN:STANDARD
TZOFFSETFROM:+0200
TZOFFSETTO:+0100
TZNAME:CET
DTSTART:20231029T010000
END:STANDARD
END:VTIMEZONE
BEGIN:VEVENT
DTSTART;TZID=Europe/Rome:20230525T083000
DTEND;TZID=Europe/Rome:20230527T120000
DTSTAMP:20260426T051227
CREATED:20230206T092406Z
LAST-MODIFIED:20230221T093158Z
UID:69916-1685003400-1685188800@portale.fnomceo.it
SUMMARY:Trani (BT)\, XX Congresso Nazionale SIS 118 “Sistema 118: quando salvare la vita è qui adesso – Working around the clock to save lives”
DESCRIPTION:XX Congresso Nazionale SIS 118\nTrani\, 25 – 27 maggio 2023\nPalazzo San Giorgio \nSistema 118 “quando salvare la vita è qui e adesso”\nWorking around the clock to save lives \n  \nIl Congresso (n. 17 ore formative) sarà accreditato Ecm dal Provider n. 432 E20ECONVEGNI ed è\nrivolto a n. 200 partecipanti afferenti a tutte le professioni sanitarie. \n\n\nEvento organizzato con patrocinio FNOMCeO
URL:https://portale.fnomceo.it/eventi-fnomceo/trani-bt-xx-congresso-nazionale-sis-118-sistema-118-quando-salvare-la-vita-e-qui-adesso-working-around-the-clock-to-save-lives/
LOCATION:Trani\, Palazzo San Giorgio\, Via S. Giorgio\, 26\, Trani\, Barletta-Andria-Trani\, 76125\, Italia
CATEGORIES:Formazione e aggiornamento
GEO:41.2771004;16.4216424
X-APPLE-STRUCTURED-LOCATION;VALUE=URI;X-ADDRESS=Trani Palazzo San Giorgio Via S. Giorgio 26 Trani Barletta-Andria-Trani 76125 Italia;X-APPLE-RADIUS=500;X-TITLE=Via S. Giorgio\, 26:geo:16.4216424,41.2771004
END:VEVENT
END:VCALENDAR