BEGIN:VCALENDAR
VERSION:2.0
PRODID:-//FNOMCeO - ECPv5.16.4//NONSGML v1.0//EN
CALSCALE:GREGORIAN
METHOD:PUBLISH
X-WR-CALNAME:FNOMCeO
X-ORIGINAL-URL:https://portale.fnomceo.it
X-WR-CALDESC:Eventi per FNOMCeO
BEGIN:VTIMEZONE
TZID:Europe/Rome
BEGIN:DAYLIGHT
TZOFFSETFROM:+0100
TZOFFSETTO:+0200
TZNAME:CEST
DTSTART:20210328T010000
END:DAYLIGHT
BEGIN:STANDARD
TZOFFSETFROM:+0200
TZOFFSETTO:+0100
TZNAME:CET
DTSTART:20211031T010000
END:STANDARD
END:VTIMEZONE
BEGIN:VEVENT
DTSTART;TZID=Europe/Rome:20210716T083000
DTEND;TZID=Europe/Rome:20210716T183000
DTSTAMP:20260420T085136
CREATED:20210608T093444Z
LAST-MODIFIED:20210622T153928Z
UID:59565-1626424200-1626460200@portale.fnomceo.it
SUMMARY:Treviso\, "Stomaco: la chirurgia sta cambiando..."
DESCRIPTION:Il congresso è indirizzato a Chirurghi\, Gastroenterologi\, Oncologi\, Radiologi\, Anestesisti\, Dietisti\, Fisioterapisti\, Medici di Medicina Generale\, Psicologi e Infermieri. \nL’iscrizione\, gratuita\, è effettuabile a questo link.
URL:https://portale.fnomceo.it/eventi-fnomceo/treviso-stomaco-la-chirurgia-sta-cambiando/
LOCATION:Treviso\, Fiere di Santa Lucia di Piave\, Via Mareno\, 2\, Santa Lucia di Piave\, Treviso\, 31025\, Italia
CATEGORIES:Formazione e aggiornamento
GEO:45.843517;12.2887124
X-APPLE-STRUCTURED-LOCATION;VALUE=URI;X-ADDRESS=Treviso Fiere di Santa Lucia di Piave Via Mareno 2 Santa Lucia di Piave Treviso 31025 Italia;X-APPLE-RADIUS=500;X-TITLE=Via Mareno\, 2:geo:12.2887124,45.843517
END:VEVENT
END:VCALENDAR