BEGIN:VCALENDAR
VERSION:2.0
PRODID:-//FNOMCeO - ECPv5.16.4//NONSGML v1.0//EN
CALSCALE:GREGORIAN
METHOD:PUBLISH
X-WR-CALNAME:FNOMCeO
X-ORIGINAL-URL:https://portale.fnomceo.it
X-WR-CALDESC:Eventi per FNOMCeO
BEGIN:VTIMEZONE
TZID:Europe/Rome
BEGIN:DAYLIGHT
TZOFFSETFROM:+0100
TZOFFSETTO:+0200
TZNAME:CEST
DTSTART:20180325T010000
END:DAYLIGHT
BEGIN:STANDARD
TZOFFSETFROM:+0200
TZOFFSETTO:+0100
TZNAME:CET
DTSTART:20181028T010000
END:STANDARD
END:VTIMEZONE
BEGIN:VEVENT
DTSTART;VALUE=DATE:20180414
DTEND;VALUE=DATE:20180416
DTSTAMP:20260423T234244
CREATED:20180208T151421Z
LAST-MODIFIED:20180208T151421Z
UID:31524-1523664000-1523836799@portale.fnomceo.it
SUMMARY:Tuttadritta & Medical Village 2018
DESCRIPTION:In occasione di TuttaDritta\, ritorna il Medical Village: medici specialisti delle più prestigiose strutture torinesi metteranno gratuitamente a disposizione la loro esperienza al servizio della prevenzione. Ogni sponsor della manifestazione ospiterà una specialità medica nel proprio stand diventando protagonista di questa campagna di prevenzione che intende evitare l’insorgere o la cronicizzazione di malattie e disturbi diffusi nella popolazione che se diagnosticati precocemente possono essere affrontati in modo più efficace e tempestivo.
URL:https://portale.fnomceo.it/eventi-fnomceo/tuttadritta-medical-village-2018/
LOCATION:Piazza San Carlo\, Torino
GEO:45.070312;7.6868565
END:VEVENT
END:VCALENDAR