BEGIN:VCALENDAR
VERSION:2.0
PRODID:-//FNOMCeO - ECPv5.16.4//NONSGML v1.0//EN
CALSCALE:GREGORIAN
METHOD:PUBLISH
X-WR-CALNAME:FNOMCeO
X-ORIGINAL-URL:https://portale.fnomceo.it
X-WR-CALDESC:Eventi per FNOMCeO
BEGIN:VTIMEZONE
TZID:Europe/Rome
BEGIN:DAYLIGHT
TZOFFSETFROM:+0100
TZOFFSETTO:+0200
TZNAME:CEST
DTSTART:20240331T010000
END:DAYLIGHT
BEGIN:STANDARD
TZOFFSETFROM:+0200
TZOFFSETTO:+0100
TZNAME:CET
DTSTART:20241027T010000
END:STANDARD
END:VTIMEZONE
BEGIN:VEVENT
DTSTART;TZID=Europe/Rome:20240404T200000
DTEND;TZID=Europe/Rome:20240404T233000
DTSTAMP:20260424T045524
CREATED:20240308T172314Z
LAST-MODIFIED:20240308T172314Z
UID:76325-1712260800-1712273400@portale.fnomceo.it
SUMMARY:Varese\, "Farmaci in gravidanza e allattamento"
DESCRIPTION:“Farmaci in gravidanza e allattamento”\nVarese\, Sala conferenze “Roberto Stella”\n4 Aprile 2024 \n  \nL’Ordine Provinciale dei Medici Chirurghi e Odontoiatri di Varese organizza per la sera del 4 aprile l’evento formativo intitolato “Farmaci in gravidanza e allattamento”
URL:https://portale.fnomceo.it/eventi-fnomceo/varese-farmaci-in-gravidanza-e-allattamento/
LOCATION:Varese\, Sala conferenze “Roberto Stella”\, Viale Milano 27\, Varese\, Italia
CATEGORIES:Eventi degli Ordini,Formazione e aggiornamento
ORGANIZER;CN="OMCeO%20Varese":MAILTO:info@omceovarese.it
GEO:45.8203135;8.8327476
X-APPLE-STRUCTURED-LOCATION;VALUE=URI;X-ADDRESS=Varese Sala conferenze “Roberto Stella” Viale Milano 27 Varese Italia;X-APPLE-RADIUS=500;X-TITLE=Viale Milano 27:geo:8.8327476,45.8203135
END:VEVENT
END:VCALENDAR