BEGIN:VCALENDAR
VERSION:2.0
PRODID:-//FNOMCeO - ECPv5.16.4//NONSGML v1.0//EN
CALSCALE:GREGORIAN
METHOD:PUBLISH
X-WR-CALNAME:FNOMCeO
X-ORIGINAL-URL:https://portale.fnomceo.it
X-WR-CALDESC:Eventi per FNOMCeO
BEGIN:VTIMEZONE
TZID:Europe/Rome
BEGIN:DAYLIGHT
TZOFFSETFROM:+0100
TZOFFSETTO:+0200
TZNAME:CEST
DTSTART:20190331T010000
END:DAYLIGHT
BEGIN:STANDARD
TZOFFSETFROM:+0200
TZOFFSETTO:+0100
TZNAME:CET
DTSTART:20191027T010000
END:STANDARD
END:VTIMEZONE
BEGIN:VEVENT
DTSTART;TZID=Europe/Rome:20190601T083000
DTEND;TZID=Europe/Rome:20190601T143000
DTSTAMP:20260425T142507
CREATED:20190522T140941Z
LAST-MODIFIED:20190522T140941Z
UID:42139-1559377800-1559399400@portale.fnomceo.it
SUMMARY:Venezia\, “Verso gli Stati Generali… Medicina Meccanica 2.0: il medico e il suo non tempo”
DESCRIPTION:  \nLa professione medica vive da diversi anni una crisi profonda legata a molteplici fattori. Il mutamento rapido della società pone i medici di fronte a un paziente “esigente” che mette in discussione le decisioni del medico e chiede un percorso sempre più condiviso. La tecnica ha invaso la nostra professione ponendo delle domande di ordine etico e deontologico. L’informatizzazione e il carico burocratico pesano sempre più sull’attività del medico sottraendo tempo alla cura del paziente. Il bisogno di contenere la spesa ha portato a un controllo sempre più serrato dell’attività del medico che sta riducendo sempre più la sua autonomia di scelta. \nTutto questo e altro ancora configura quella che viene definita “questione medica” e per affrontarla la FNOMCeO ha indetto gli Stati generali della professione per lavorare tutti insieme a un progetto di cambiamento\, perché è ormai necessario un cambio di passo. \nL’OMCeO veneziano – in collaborazione con il Dipartimento di Filosofia dell’Università Ca’ Foscari di Venezia – ha iniziato un percorso di riflessione sulle 100 tesi proposte dalla FNOMCeO per gli Stati generali e il Convegno\, patrocinato anche dall’Ulss 3 Serenissima e dall’Ulss 4 Veneto Orientale\, rappresenta la fase finale di questo percorso dove saranno raccolte le riflessioni prodotte per contribuire alla discussione finale agli Stati generali.
URL:https://portale.fnomceo.it/eventi-fnomceo/venezia-verso-gli-stati-generali-medicina-meccanica-2-0-il-medico-e-il-suo-non-tempo/
LOCATION:Ospedale San Giovanni e Paolo\, Sestiere Castello\, 6777\, Venezia\, 30122\, Italia
CATEGORIES:Eventi degli Ordini,Formazione e aggiornamento
GEO:45.4396391;12.341519
X-APPLE-STRUCTURED-LOCATION;VALUE=URI;X-ADDRESS=Ospedale San Giovanni e Paolo Sestiere Castello 6777 Venezia 30122 Italia;X-APPLE-RADIUS=500;X-TITLE=Sestiere Castello\, 6777:geo:12.341519,45.4396391
END:VEVENT
END:VCALENDAR