BEGIN:VCALENDAR
VERSION:2.0
PRODID:-//FNOMCeO - ECPv5.16.4//NONSGML v1.0//EN
CALSCALE:GREGORIAN
METHOD:PUBLISH
X-WR-CALNAME:FNOMCeO
X-ORIGINAL-URL:https://portale.fnomceo.it
X-WR-CALDESC:Eventi per FNOMCeO
BEGIN:VTIMEZONE
TZID:Europe/Rome
BEGIN:DAYLIGHT
TZOFFSETFROM:+0100
TZOFFSETTO:+0200
TZNAME:CEST
DTSTART:20200329T010000
END:DAYLIGHT
BEGIN:STANDARD
TZOFFSETFROM:+0200
TZOFFSETTO:+0100
TZNAME:CET
DTSTART:20201025T010000
END:STANDARD
END:VTIMEZONE
BEGIN:VEVENT
DTSTART;TZID=Europe/Rome:20201030T090000
DTEND;TZID=Europe/Rome:20201030T180000
DTSTAMP:20260420T072138
CREATED:20201016T140748Z
LAST-MODIFIED:20201016T140748Z
UID:53969-1604048400-1604080800@portale.fnomceo.it
SUMMARY:Verona\, Seminario Nazionale “Il mondo del lavoro\, il medico competente e la pandemia da Sars-Cov-2. Cosa abbiamo imparato”
DESCRIPTION:
URL:https://portale.fnomceo.it/eventi-fnomceo/verona-seminario-nazionale-il-mondo-del-lavoro-il-medico-competente-e-la-pandemia-da-sars-cov-2-cosa-abbiamo-imparato/
LOCATION:Verona\, Auditorium Domus Mercatorum\, Piazza Erbe\, 17\, Verona\, 37121\, Italia
CATEGORIES:Formazione e aggiornamento
GEO:45.4426929;10.9972202
X-APPLE-STRUCTURED-LOCATION;VALUE=URI;X-ADDRESS=Verona Auditorium Domus Mercatorum Piazza Erbe 17 Verona 37121 Italia;X-APPLE-RADIUS=500;X-TITLE=Piazza Erbe\, 17:geo:10.9972202,45.4426929
END:VEVENT
END:VCALENDAR