BEGIN:VCALENDAR
VERSION:2.0
PRODID:-//FNOMCeO - ECPv5.16.4//NONSGML v1.0//EN
CALSCALE:GREGORIAN
METHOD:PUBLISH
X-WR-CALNAME:FNOMCeO
X-ORIGINAL-URL:https://portale.fnomceo.it
X-WR-CALDESC:Eventi per FNOMCeO
BEGIN:VTIMEZONE
TZID:Europe/Rome
BEGIN:DAYLIGHT
TZOFFSETFROM:+0100
TZOFFSETTO:+0200
TZNAME:CEST
DTSTART:20200329T010000
END:DAYLIGHT
BEGIN:STANDARD
TZOFFSETFROM:+0200
TZOFFSETTO:+0100
TZNAME:CET
DTSTART:20201025T010000
END:STANDARD
END:VTIMEZONE
BEGIN:VEVENT
DTSTART;TZID=Europe/Rome:20201203T080000
DTEND;TZID=Europe/Rome:20201203T150000
DTSTAMP:20260422T213808
CREATED:20201127T103537Z
LAST-MODIFIED:20201127T103537Z
UID:55061-1606982400-1607007600@portale.fnomceo.it
SUMMARY:VI Conferenza Regionale HPH – Health Promoting Hospitals & Health Services – Rete degli Ospedali e Servizi Sanitari che promuovono salute del Friuli Venezia Giulia “Aver cura di chi ha curato”
DESCRIPTION:La rete HPH del FVG\, nata nel 2003 in base all’accordo siglato con l’Ufficio Europeo dell’OMS\, è divenuta parte integrante della programmazione regionale. Due decreti regionali ne evidenziano il ruolo operativo per promuovere la salute di pazienti\, operatori e cittadini\, tramite il comitato regionale e il regolamento di attuazione del programma.\nProteggere e promuovere la salute della popolazione richiede di attivare approcci intersettoriali e interdisciplinari che interpretino le azioni di promozione della salute in modo sistemico. Questi approcci sono profondamente collegati con lo stato di benessere psicofisico del personale\, sotto assedio per la pandemia in corso. La sfida di quest’anno si concentra sulla resilienza del personale sanitario nei confronti dell’emergenza COVID-19 in alleanza con gli ordini professionali di medici e psicologi.
URL:https://portale.fnomceo.it/eventi-fnomceo/vi-conferenza-regionale-hph-health-promoting-hospitals-health-services-rete-degli-ospedali-e-servizi-sanitari-che-promuovono-salute-del-friuli-venezia-giulia-aver-cura-d/
LOCATION:Web\, Italia
CATEGORIES:Formazione e aggiornamento
GEO:41.87194;12.56738
END:VEVENT
END:VCALENDAR