BEGIN:VCALENDAR
VERSION:2.0
PRODID:-//FNOMCeO - ECPv5.16.4//NONSGML v1.0//EN
CALSCALE:GREGORIAN
METHOD:PUBLISH
X-WR-CALNAME:FNOMCeO
X-ORIGINAL-URL:https://portale.fnomceo.it
X-WR-CALDESC:Eventi per FNOMCeO
BEGIN:VTIMEZONE
TZID:Europe/Rome
BEGIN:DAYLIGHT
TZOFFSETFROM:+0100
TZOFFSETTO:+0200
TZNAME:CEST
DTSTART:20200329T010000
END:DAYLIGHT
BEGIN:STANDARD
TZOFFSETFROM:+0200
TZOFFSETTO:+0100
TZNAME:CET
DTSTART:20201025T010000
END:STANDARD
END:VTIMEZONE
BEGIN:VEVENT
DTSTART;TZID=Europe/Rome:20201024T083000
DTEND;TZID=Europe/Rome:20201024T170000
DTSTAMP:20260419T225723
CREATED:20201016T135520Z
LAST-MODIFIED:20201019T091756Z
UID:53953-1603528200-1603558800@portale.fnomceo.it
SUMMARY:Vibo Valentia\, Incontri calabresi di Medicina di Genere “Medicina di genere e Covid – 19”
DESCRIPTION:CONGRESSO NAZIONALE \nINCONTRI CALABRESI DI MEDICINA DI GENERE\n“Medicina di Genere e CoViD – 19” \nI Edizione \n501 HOTEL Vibo Valentia\, 24 ottobre 2020 ore 8\,30 \nPresidente Onorario: On.le S. Zampa\nPresidenti: F. Anelli – A. Maglia\nResponsabile Scientifico: F. Lavalle
URL:https://portale.fnomceo.it/eventi-fnomceo/vibo-valentia-incontri-calabresi-di-medicina-di-genere-medicina-di-genere-e-covid-19/
LOCATION:Vibo Valentia\, 501 Hotel\, Viale E. Bucciarelli\, 14\, Vibo Valentia\, 89900\, Italia
CATEGORIES:Eventi degli Ordini,Formazione e aggiornamento
GEO:38.681476;16.1028906
X-APPLE-STRUCTURED-LOCATION;VALUE=URI;X-ADDRESS=Vibo Valentia 501 Hotel Viale E. Bucciarelli 14 Vibo Valentia 89900 Italia;X-APPLE-RADIUS=500;X-TITLE=Viale E. Bucciarelli\, 14:geo:16.1028906,38.681476
END:VEVENT
END:VCALENDAR