BEGIN:VCALENDAR
VERSION:2.0
PRODID:-//FNOMCeO - ECPv5.16.4//NONSGML v1.0//EN
CALSCALE:GREGORIAN
METHOD:PUBLISH
X-WR-CALNAME:FNOMCeO
X-ORIGINAL-URL:https://portale.fnomceo.it
X-WR-CALDESC:Eventi per FNOMCeO
BEGIN:VTIMEZONE
TZID:Europe/Rome
BEGIN:DAYLIGHT
TZOFFSETFROM:+0100
TZOFFSETTO:+0200
TZNAME:CEST
DTSTART:20180325T010000
END:DAYLIGHT
BEGIN:STANDARD
TZOFFSETFROM:+0200
TZOFFSETTO:+0100
TZNAME:CET
DTSTART:20181028T010000
END:STANDARD
END:VTIMEZONE
BEGIN:VEVENT
DTSTART;VALUE=DATE:20180929
DTEND;VALUE=DATE:20180930
DTSTAMP:20260423T194628
CREATED:20180715T171811Z
LAST-MODIFIED:20180717T104234Z
UID:34920-1538179200-1538265599@portale.fnomceo.it
SUMMARY:"Violenza\, no grazie: curare le ferite\, proteggere l'anima" (perché nessuno dica: "non è di mia competenza")
DESCRIPTION:Il medico è un professionista che vive la sua professionalità in forte relazione con la società. Per questo è nella posizione di poter rendersi conto delle situazioni di violenza eclatante che sta permeando le nostre popolazioni. Si ritiene inoltre che esista una casistica sottotraccia molto più permeante la vita di molte persone rispetto a quella che giunge alle cronache ed è importante per la mission professionale del medico\, per il bene dell’individuo e della società\, rinforzare gli strumenti per il riconoscimento precoce della violenza perpetrata nell’ambito famigliare e sociale attraverso l’individuazione delle situazioni di allarme\, comprenderne l’etiologia\, ampliare la dotazione degli strumenti adeguati per affrontarla. \nDel tutto recentemente inoltre in Italia il personale sanitario è oggetto di forme quotidiane di aggressività ben oltre i limiti imposti da una convivenza civile: saper riconoscere i momenti scatenanti è importante come sono importanti gli interventi preventivi dei medici e delle Autorità competenti a protezione di una funzione che può essere debole. \nCompito del Simposio è non solo ampliare la discussione sul tema\, ma fornire quanto è utile per riconoscere\, curare e combattere il fenomeno della violenza in generale. \n\n\n\n\nIl Simposio è a numero chiuso e riservato ai primi 150 iscritti\, Medici ed Odontoiatri. La partecipazione al Simposio è gratuita con obbligo di iscrizione da effettuare on-line dal Sito www.omceovarese.it entro il 23 Settembre 2018.
URL:https://portale.fnomceo.it/eventi-fnomceo/violenza-no-grazie-curare-le-ferite-proteggere-lanima-perche-nessuno-dica-non-e-di-mia-competenza/
LOCATION:SHG Villa Porro Pirelli\, via Tabacchi 20\, Induno Olona\, Italia
CATEGORIES:Eventi degli Ordini
ORGANIZER;CN="OMCeO%20Varese":MAILTO:info@omceovarese.it
GEO:45.8492519;8.8354359
X-APPLE-STRUCTURED-LOCATION;VALUE=URI;X-ADDRESS=SHG Villa Porro Pirelli via Tabacchi 20 Induno Olona Italia;X-APPLE-RADIUS=500;X-TITLE=via Tabacchi 20:geo:8.8354359,45.8492519
END:VEVENT
END:VCALENDAR