BEGIN:VCALENDAR
VERSION:2.0
PRODID:-//FNOMCeO - ECPv5.16.4//NONSGML v1.0//EN
CALSCALE:GREGORIAN
METHOD:PUBLISH
X-WR-CALNAME:FNOMCeO
X-ORIGINAL-URL:https://portale.fnomceo.it
X-WR-CALDESC:Eventi per FNOMCeO
BEGIN:VTIMEZONE
TZID:Europe/Rome
BEGIN:DAYLIGHT
TZOFFSETFROM:+0100
TZOFFSETTO:+0200
TZNAME:CEST
DTSTART:20220327T010000
END:DAYLIGHT
BEGIN:STANDARD
TZOFFSETFROM:+0200
TZOFFSETTO:+0100
TZNAME:CET
DTSTART:20221030T010000
END:STANDARD
END:VTIMEZONE
BEGIN:VEVENT
DTSTART;TZID=Europe/Rome:20221117T170000
DTEND;TZID=Europe/Rome:20221117T190000
DTSTAMP:20260419T141042
CREATED:20221104T111131Z
LAST-MODIFIED:20221104T141912Z
UID:68278-1668704400-1668711600@portale.fnomceo.it
SUMMARY:Webinar “Aggiornamenti in tema di COVID-19”
DESCRIPTION:Webinar “Aggiornamenti in tema di COVID-19” \nAggiornamenti dell’early treatment nel Covid-19\n17 novembre e 24 novembre – dalle 17.00 alle 19.00 \nFollow up sulla campagna vaccinale contro il Covid-19\n15 dicembre 2022 – dalle ore 17.00 alle 19.00 \n\nSerie di 3 webinar gratuiti\, della durata di 2 ore ciascuno\, che si svolgeranno i prossimi 17 e 24 Novembre e 15 Dicembre. \nI webinar sono accreditati ECM come FAD sincrona per tutte le discipline mediche e la maggior parte delle professioni sanitarie. \nIn allegato il programma con una presentazione generale e il dettaglio dei singoli appuntamenti. \nMaggiori informazioni a questo link: https://aggiornamenticovid19.eminerva.eu/
URL:https://portale.fnomceo.it/eventi-fnomceo/webinar-aggiornamenti-in-tema-di-covid-19-2/2022-11-17/
LOCATION:Web\, Italia
CATEGORIES:Formazione e aggiornamento
GEO:41.87194;12.56738
END:VEVENT
END:VCALENDAR