BEGIN:VCALENDAR
VERSION:2.0
PRODID:-//FNOMCeO - ECPv5.16.4//NONSGML v1.0//EN
CALSCALE:GREGORIAN
METHOD:PUBLISH
X-WR-CALNAME:FNOMCeO
X-ORIGINAL-URL:https://portale.fnomceo.it
X-WR-CALDESC:Eventi per FNOMCeO
BEGIN:VTIMEZONE
TZID:Europe/Rome
BEGIN:DAYLIGHT
TZOFFSETFROM:+0100
TZOFFSETTO:+0200
TZNAME:CEST
DTSTART:20210328T010000
END:DAYLIGHT
BEGIN:STANDARD
TZOFFSETFROM:+0200
TZOFFSETTO:+0100
TZNAME:CET
DTSTART:20211031T010000
END:STANDARD
END:VTIMEZONE
BEGIN:VEVENT
DTSTART;TZID=Europe/Rome:20210325T133000
DTEND;TZID=Europe/Rome:20210325T143000
DTSTAMP:20260423T141150
CREATED:20210319T093419Z
LAST-MODIFIED:20210319T093419Z
UID:57867-1616679000-1616682600@portale.fnomceo.it
SUMMARY:Webinar “Ansia e depressione durante la pandemia Covid-19: utili strumenti di lavoro”
DESCRIPTION:La pandemia Covid-19 ha impattato sul sistema sanitario lombardo con elevata intensità. Se gli Ospedali hanno dovuto fronteggiare l’ondata di accessi in Pronto Soccorso\, nei reparti di Terapia Intensiva e in quelli approntati per gestire le diverse necessità di intensità di assistenza\, il sistema della medicina territoriale si è trovato nella necessità di rispondere a bisogni di cura nuovi\n(Covid-19) e antichi in una situazione di grande stress emotivo che ha coinvolto la popolazione generale ma anche tutti gli operatori del sistema sanitario. \nIl corso nasce dunque dall’idea di fornire ai Medici di Medicina Generale degli strumenti utili sia dal punto di vista tecnico che esperienziale per gestire i disturbi psichici più comuni nella loro attività clinica quotidiana. Si articola in un percorso di 7 incontri di circa 50 minuti l’uno in cui verranno proposti strumenti di semplice utilizzo sia dal punto di vista diagnostico che trattamentale per affrontare le patologie psichiche con particolare attenzione alle specificità emerse durante la pandemia Covid-19. \nLe tematiche affrontate saranno i disturbi depressivi\, d’ansia\, del sonno e quelli correlati a problematiche di dipendenza da alcol o sostanze. Verranno inoltre forniti specifici strumenti di lavoro utili a migliorare la gestione dello stress e favorire una maggiore resilienza. Strumenti che potranno essere proposti ai propri pazienti ma anche utilizzati nella propria esperienza quotidiana quando ritenuto utile ad implementare la capacità di gestione delle sollecitazioni emotive.
URL:https://portale.fnomceo.it/eventi-fnomceo/webinar-ansia-e-depressione-durante-la-pandemia-covid-19-utili-strumenti-di-lavoro/2021-03-25/
LOCATION:Web\, Italia
CATEGORIES:Formazione e aggiornamento
ATTACH;FMTTYPE=image/jpeg:https://portale.fnomceo.it/wp-content/uploads/2021/03/web.jpg
GEO:41.87194;12.56738
END:VEVENT
END:VCALENDAR