BEGIN:VCALENDAR
VERSION:2.0
PRODID:-//FNOMCeO - ECPv5.16.4//NONSGML v1.0//EN
CALSCALE:GREGORIAN
METHOD:PUBLISH
X-WR-CALNAME:FNOMCeO
X-ORIGINAL-URL:https://portale.fnomceo.it
X-WR-CALDESC:Eventi per FNOMCeO
BEGIN:VTIMEZONE
TZID:Europe/Rome
BEGIN:DAYLIGHT
TZOFFSETFROM:+0100
TZOFFSETTO:+0200
TZNAME:CEST
DTSTART:20200329T010000
END:DAYLIGHT
BEGIN:STANDARD
TZOFFSETFROM:+0200
TZOFFSETTO:+0100
TZNAME:CET
DTSTART:20201025T010000
END:STANDARD
END:VTIMEZONE
BEGIN:VEVENT
DTSTART;TZID=Europe/Rome:20200625T173000
DTEND;TZID=Europe/Rome:20200625T193000
DTSTAMP:20260422T212047
CREATED:20200622T104219Z
LAST-MODIFIED:20200622T104219Z
UID:51674-1593106200-1593113400@portale.fnomceo.it
SUMMARY:Webinar “Covid-19: da Emergenza Sanitaria a Emergenza Giudiziaria”
DESCRIPTION:Il webinar “Covid-19: da Emergenza Sanitaria a Emergenza Giudiziaria” si terrà il 25 giugno 2020 alle ore 17.30. \nPer collegarsi:Zoom Meeting ID: 812 1033 3556\nhttps://us02web.zoom.us/j/81210333556
URL:https://portale.fnomceo.it/eventi-fnomceo/webinar-covid-19-da-emergenza-sanitaria-a-emergenza-giudiziaria/
CATEGORIES:Formazione e aggiornamento
END:VEVENT
END:VCALENDAR