BEGIN:VCALENDAR
VERSION:2.0
PRODID:-//FNOMCeO - ECPv5.16.4//NONSGML v1.0//EN
CALSCALE:GREGORIAN
METHOD:PUBLISH
X-WR-CALNAME:FNOMCeO
X-ORIGINAL-URL:https://portale.fnomceo.it
X-WR-CALDESC:Eventi per FNOMCeO
BEGIN:VTIMEZONE
TZID:Europe/Rome
BEGIN:DAYLIGHT
TZOFFSETFROM:+0100
TZOFFSETTO:+0200
TZNAME:CEST
DTSTART:20200329T010000
END:DAYLIGHT
BEGIN:STANDARD
TZOFFSETFROM:+0200
TZOFFSETTO:+0100
TZNAME:CET
DTSTART:20201025T010000
END:STANDARD
END:VTIMEZONE
BEGIN:VEVENT
DTSTART;TZID=Europe/Rome:20200804T090000
DTEND;TZID=Europe/Rome:20200804T130000
DTSTAMP:20260422T123230
CREATED:20200803T082028Z
LAST-MODIFIED:20200803T082028Z
UID:52430-1596531600-1596546000@portale.fnomceo.it
SUMMARY:Webinar “Il Sistema Sanitario Nazionale in Protezione Civile – progetto formativo OMCeO Palermo”
DESCRIPTION:L’Ordine dei Medici Chirurghi e degli Odontoiatri della provincia di Palermo ha siglato una convenzione operativa con l’Assessorato dell’Istruzione e della Formazione Professionale\, mirata all’aggiornamento sulle tematiche di protezione civile in caso di emergenza\, con  la finalità generale di rafforzare le conoscenze professionali del personale che opera nella Regione in servizi di Emergenza/Urgenza\, volti a tutelare la sicurezza dei cittadini. Al fine di dare avvio al progetto\, l’Ordine dei Medici Chirurghi e degli Odontoiatri della provincia di Palermo\, Ente esponenziale della professione medica e odontoiatrica\, quale organo sussidiario dello Stato che agisce al fine di tutelare gli interessi pubblici ha organizzato un webinar dal titolo “Il Sistema Sanitario Nazionale in Protezione Civile – progetto formativo OMCeO Palermo” che si svolgerà martedì 4 agosto dalle ore 9.00 alle ore 13.00. “ \nPer partecipare: https://zoom.us/j/89399524780 \n\nId Meeting: 89399524780
URL:https://portale.fnomceo.it/eventi-fnomceo/webinar-il-sistema-sanitario-nazionale-in-protezione-civile-progetto-formativo-omceo-palermo/
CATEGORIES:Eventi degli Ordini,Formazione e aggiornamento
END:VEVENT
END:VCALENDAR