BEGIN:VCALENDAR
VERSION:2.0
PRODID:-//FNOMCeO - ECPv5.16.4//NONSGML v1.0//EN
CALSCALE:GREGORIAN
METHOD:PUBLISH
X-WR-CALNAME:FNOMCeO
X-ORIGINAL-URL:https://portale.fnomceo.it
X-WR-CALDESC:Eventi per FNOMCeO
BEGIN:VTIMEZONE
TZID:Europe/Rome
BEGIN:DAYLIGHT
TZOFFSETFROM:+0100
TZOFFSETTO:+0200
TZNAME:CEST
DTSTART:20200329T010000
END:DAYLIGHT
BEGIN:STANDARD
TZOFFSETFROM:+0200
TZOFFSETTO:+0100
TZNAME:CET
DTSTART:20201025T010000
END:STANDARD
END:VTIMEZONE
BEGIN:VEVENT
DTSTART;TZID=Europe/Rome:20201120T080000
DTEND;TZID=Europe/Rome:20201121T170000
DTSTAMP:20260423T154506
CREATED:20201030T122459Z
LAST-MODIFIED:20201105T091951Z
UID:54312-1605859200-1605978000@portale.fnomceo.it
SUMMARY:Webinar “La malattia di Lyme: una zoonosi emergente anche in tempo di Covid-19”
DESCRIPTION:
URL:https://portale.fnomceo.it/eventi-fnomceo/webinar-la-malattia-di-lyme-una-zoonosi-emergente-anche-in-tempo-di-covid-19/
LOCATION:Web\, Italia
CATEGORIES:Formazione e aggiornamento
GEO:41.87194;12.56738
END:VEVENT
END:VCALENDAR