BEGIN:VCALENDAR
VERSION:2.0
PRODID:-//FNOMCeO - ECPv5.16.4//NONSGML v1.0//EN
CALSCALE:GREGORIAN
METHOD:PUBLISH
X-WR-CALNAME:FNOMCeO
X-ORIGINAL-URL:https://portale.fnomceo.it
X-WR-CALDESC:Eventi per FNOMCeO
BEGIN:VTIMEZONE
TZID:Europe/Rome
BEGIN:DAYLIGHT
TZOFFSETFROM:+0100
TZOFFSETTO:+0200
TZNAME:CEST
DTSTART:20240331T010000
END:DAYLIGHT
BEGIN:STANDARD
TZOFFSETFROM:+0200
TZOFFSETTO:+0100
TZNAME:CET
DTSTART:20241027T010000
END:STANDARD
END:VTIMEZONE
BEGIN:VEVENT
DTSTART;TZID=Europe/Rome:20241026T090000
DTEND;TZID=Europe/Rome:20241026T150000
DTSTAMP:20260423T190035
CREATED:20240523T121641Z
LAST-MODIFIED:20240523T121853Z
UID:77853-1729933200-1729954800@portale.fnomceo.it
SUMMARY:Webinar Online\, Sexology Summit “Sessualità: corpo\, virtualità e intelligenza artificiale”
DESCRIPTION:Sexology Summit “Sessualità: corpo\, virtualità e intelligenza artificiale”\nPiattaforma Webinar Sperling\n26 ottobre 2024  \nIl 26 ottobre si svolgerà sulla piattaforma online Sperling il congresso “Sessualità: corpo\, virtualità e intelligenza artificiale”\, il quale si pone come finalità quella di esaminare come l’Artificial Intelligence e le nuove tecnologie potranno impattare non solo nella vita pratica\, lavorativa e medica ma anche in quella emotiva\, sentimentale e sessuale delle persone. \n\nEvento patrocinato FNOMCeO
URL:https://portale.fnomceo.it/eventi-fnomceo/webinar-online-sexology-summit-sessualita-corpo-virtualita-e-intelligenza-artificiale/
LOCATION:Web\, Italia
CATEGORIES:Eventi patrocinati,Formazione e aggiornamento
GEO:41.87194;12.56738
END:VEVENT
END:VCALENDAR