BEGIN:VCALENDAR
VERSION:2.0
PRODID:-//FNOMCeO - ECPv5.16.4//NONSGML v1.0//EN
CALSCALE:GREGORIAN
METHOD:PUBLISH
X-WR-CALNAME:FNOMCeO
X-ORIGINAL-URL:https://portale.fnomceo.it
X-WR-CALDESC:Eventi per FNOMCeO
BEGIN:VTIMEZONE
TZID:Europe/Rome
BEGIN:DAYLIGHT
TZOFFSETFROM:+0100
TZOFFSETTO:+0200
TZNAME:CEST
DTSTART:20180325T010000
END:DAYLIGHT
BEGIN:STANDARD
TZOFFSETFROM:+0200
TZOFFSETTO:+0100
TZNAME:CET
DTSTART:20181028T010000
END:STANDARD
END:VTIMEZONE
BEGIN:VEVENT
DTSTART;VALUE=DATE:20181011
DTEND;VALUE=DATE:20181014
DTSTAMP:20260423T070737
CREATED:20180729T085130Z
LAST-MODIFIED:20180729T085130Z
UID:35282-1539216000-1539475199@portale.fnomceo.it
SUMMARY:XI Congresso nazionale SIHTA
DESCRIPTION:L’universalismo del sistema sanitario rappresenta un grande risultato per l’Europa del secondo dopoguerra\, caratterizzato dall’idea che tutti gli esseri umani\, indipendentemente dalla propria condizione economica\, possano beneficiare di assistenza medica. \nA 40 anni dalla istituzione del SSN italiano e\, in un’epoca dove le risorse pubbliche destinate alla salute sono continuamente messe in discussione\, spesso razionate o eliminate a favore di diversi sistemi di copertura assicurativa o mutualistica\, il ricorso all’approccio multidimensionale e multidisciplinare dell’HTA\, appare ormai sempre più imprescindibile. \nLa recente proposta legislativa della Commissione europea sul rafforzamento della cooperazione nella valutazione delle tecnologie sanitarie da un lato e l’istituzione della Cabina di Regia ministeriale per l’HTA in Italia dall’altro\, rappresentano un grande passo in avanti congiunto nell’ottica di garantire l’introduzione nei sistemi sanitari nazionali di nuove tecnologie che rispondano alle priorità di salute e ai reali bisogni dei cittadini mediante l’utilizzo di metodologie e procedure condivise validate scientificamente. \nAl fine di raggiungere tale obiettivo\, è fondamentale il coinvolgimento delle aziende della filiera della salute\, valorizzarne la ricerca industriale e gli investimenti sull’innovazione tecnologica\, nonché la sensibilizzazione delle associazioni dei pazienti e dei rappresentanti dei cittadini nelle scelte di politica sanitaria. \nÈ necessario\, in conclusione\, un vero e proprio cambiamento nella cultura della valutazione ed iniziare a pensare ad una nuova era dell’HTA: migliorare il dialogo e il confronto tra gli stakeholder\, garantire la condivisione delle expertise\, prevedere il coinvolgimento concreto del cittadino-paziente e delle relative associazioni per garantire un contributo basato sull’esperienza tangibile ed arrivare a scelte sempre più consapevoli ed informate. \nL’XI Congresso Nazionale SIHTA rappresenta un momento di confronto e dibattito soprattutto su queste tematiche con l’ambizioso obiettivo di comprendere le sfide e le prospettive della sanità di domani\, a partire dalla sostenibilità del nostro SSN e dall’universalità dell’accesso alle cure. \n\n\n\n\nEvento in fase di accreditamento ECM per tutte le professioni.
URL:https://portale.fnomceo.it/eventi-fnomceo/xi-congresso-nazionale-sihta/
LOCATION:Centro Congressi Auditorium Aurelia\, Largo Tommaso Perassi\, Roma\, Italia
CATEGORIES:Formazione e aggiornamento
GEO:41.8894146;12.4100342
X-APPLE-STRUCTURED-LOCATION;VALUE=URI;X-ADDRESS=Centro Congressi Auditorium Aurelia Largo Tommaso Perassi Roma Italia;X-APPLE-RADIUS=500;X-TITLE=Largo Tommaso Perassi:geo:12.4100342,41.8894146
END:VEVENT
END:VCALENDAR