BEGIN:VCALENDAR
VERSION:2.0
PRODID:-//FNOMCeO - ECPv5.16.4//NONSGML v1.0//EN
CALSCALE:GREGORIAN
METHOD:PUBLISH
X-WR-CALNAME:FNOMCeO
X-ORIGINAL-URL:https://portale.fnomceo.it
X-WR-CALDESC:Eventi per FNOMCeO
BEGIN:VTIMEZONE
TZID:Europe/Rome
BEGIN:DAYLIGHT
TZOFFSETFROM:+0100
TZOFFSETTO:+0200
TZNAME:CEST
DTSTART:20200329T010000
END:DAYLIGHT
BEGIN:STANDARD
TZOFFSETFROM:+0200
TZOFFSETTO:+0100
TZNAME:CET
DTSTART:20201025T010000
END:STANDARD
END:VTIMEZONE
BEGIN:VEVENT
DTSTART;TZID=Europe/Rome:20201101T080000
DTEND;TZID=Europe/Rome:20201101T170000
DTSTAMP:20260420T071738
CREATED:20200727T132530Z
LAST-MODIFIED:20200727T132530Z
UID:52325-1604217600-1604250000@portale.fnomceo.it
SUMMARY:XIII edizione del Concorso letterario\, artistico e musicale “Il Volo di Pegaso”
DESCRIPTION:Il Concorso\, ideato e promosso dal Centro Nazionale Malattie Rare dell’Istituto Superiore di Sanità\, si pone il duplice obiettivo di: \n(i) fornire spazi espressivi a persone con malattie rare\, loro familiari e professionisti sanitari coinvolti e \n(ii) diffondere la conoscenza del complesso mondo delle malattie rare attraverso molteplici canali\, consolidando il legame tra narrazione\, nelle sue diverse forme\, e promozione alla salute. \n  \nIl TEMA di questa edizione è I COLORI DELLA VITA\, da coniugare con le malattie rare. \nLe SEZIONI sono: \n\narti letterarie: narrativa e poesia;\narti visive: disegno\, pittura\, scultura\, fotografia\, arte digitale;\nmusica: composizione musicale e interpretazione musicale.\n\nPer iscriversi è necessario compilare il modulo di iscrizione online\,  disponibile in italiano e in inglese\, tramite il link che troverete nel Bando di Concorso ed inviare quanto richiesto nel Bando\, entro il 1° novembre 2020.
URL:https://portale.fnomceo.it/eventi-fnomceo/xiii-edizione-del-concorso-letterario-artistico-e-musicale-il-volo-di-pegaso/
END:VEVENT
END:VCALENDAR